BEGIN:VCALENDAR
VERSION:2.0
METHOD:PUBLISH
BEGIN:VEVENT
UID:WILD_APRICOT_EVENT_3150068_SESSION_1
DTSTART:20181201T020000Z
DTEND:20181201T060000Z
SUMMARY:December Skillshare
LOCATION:Tresillian
DESCRIPTION:https://pawa.org.au/event-3150068\n\n\n\n
DTSTAMP:20190227T110811Z
END:VEVENT
END:VCALENDAR
