BEGIN:VCALENDAR
VERSION:2.0
METHOD:PUBLISH
BEGIN:VEVENT
UID:WILD_APRICOT_EVENT_3154736_SESSION_1
DTSTART:20190202T020000Z
DTEND:20190202T060000Z
SUMMARY:February Skillshare
LOCATION:Tresillian
DESCRIPTION:https://pawa.org.au/event-3154736\n\nOpen to all PAWA Members - $15 fee paid on the day.\n  Come along to Tresillian Art Centre to work in the studio with fellow printmakers. Tea and coffee available\, please bring a small plate of food to share.\n
DTSTAMP:20190227T110800Z
END:VEVENT
END:VCALENDAR
