BEGIN:VCALENDAR
VERSION:2.0
METHOD:PUBLISH
BEGIN:VEVENT
UID:WILD_APRICOT_EVENT_3154737_SESSION_1
DTSTART:20190302T020000Z
DTEND:20190302T060000Z
SUMMARY:March Skillshare
LOCATION:Tresillian
DESCRIPTION:https://pawa.org.au/event-3154737\n\nOpen to all PAWA Members - $15 fee paid on the day.\n  Come along to Tresillian Art Centre to work in the studio with fellow printmakers. Tea and coffee available\, please bring a small plate of food to share.\n  \n\n
DTSTAMP:20260424T163248Z
END:VEVENT
END:VCALENDAR
