BEGIN:VCALENDAR
VERSION:2.0
METHOD:PUBLISH
BEGIN:VEVENT
UID:WILD_APRICOT_EVENT_3158923_SESSION_1
DTSTART:20190210T160000Z
DTEND:20190308T160000Z
SUMMARY:PAWA STUDIO EXHIBITION
LOCATION:Tresillian Art Centre
DESCRIPTION:https://pawa.org.au/event-3158923\n\nHello Printmakers \n  Guess what?! \n  PAWA is beginning its busy year by holding an exhibition at the Tresillian arts centre February 11th - March 8th. \n  Now we are inviting expressions of interest from all members to submit work for inclusion in the exhibition. Please submit your expression of interest by January 11th 2019. You need to include the title\, print practice\, and size for each work.\n  Artists will be notified by  January 25th of their successful selection and will be notified of the date for delivery of works to Tresillian. \n  regards\n  The excited team of PAWA\n  \n\n  We would like to remind the artists that the Tresillian art gallery takes 30% commission on the artwork's sales.  \n\n
DTSTAMP:20190227T110709Z
END:VEVENT
END:VCALENDAR
