BEGIN:VCALENDAR
VERSION:2.0
METHOD:PUBLISH
BEGIN:VEVENT
UID:WILD_APRICOT_EVENT_3261680_SESSION_1
DTSTART:20190215T100000Z
DTEND:20190215T120000Z
SUMMARY:PAWA Studio Exhibition Opening
LOCATION:Tresillian\, 21 Tyrell Street\, Nedlands
DESCRIPTION:https://pawa.org.au/event-3261680\n\nJoin us for the opening of PAWA's 2018 Studio Exhibition\n
DTSTAMP:20190227T110749Z
END:VEVENT
END:VCALENDAR
